BEGIN:VCALENDAR
VERSION:2.0
PRODID:-//Svenska Livräddningssällskapet - ECPv6.15.11//NONSGML v1.0//EN
CALSCALE:GREGORIAN
METHOD:PUBLISH
X-ORIGINAL-URL:http://dev.svenskalivraddningssallskapet.se
X-WR-CALDESC:Händelser för Svenska Livräddningssällskapet
REFRESH-INTERVAL;VALUE=DURATION:PT1H
X-Robots-Tag:noindex
X-PUBLISHED-TTL:PT1H
BEGIN:VTIMEZONE
TZID:Europe/Stockholm
BEGIN:DAYLIGHT
TZOFFSETFROM:+0100
TZOFFSETTO:+0200
TZNAME:CEST
DTSTART:20230326T010000
END:DAYLIGHT
BEGIN:STANDARD
TZOFFSETFROM:+0200
TZOFFSETTO:+0100
TZNAME:CET
DTSTART:20231029T010000
END:STANDARD
BEGIN:DAYLIGHT
TZOFFSETFROM:+0100
TZOFFSETTO:+0200
TZNAME:CEST
DTSTART:20240331T010000
END:DAYLIGHT
BEGIN:STANDARD
TZOFFSETFROM:+0200
TZOFFSETTO:+0100
TZNAME:CET
DTSTART:20241027T010000
END:STANDARD
BEGIN:DAYLIGHT
TZOFFSETFROM:+0100
TZOFFSETTO:+0200
TZNAME:CEST
DTSTART:20250330T010000
END:DAYLIGHT
BEGIN:STANDARD
TZOFFSETFROM:+0200
TZOFFSETTO:+0100
TZNAME:CET
DTSTART:20251026T010000
END:STANDARD
BEGIN:DAYLIGHT
TZOFFSETFROM:+0100
TZOFFSETTO:+0200
TZNAME:CEST
DTSTART:20260329T010000
END:DAYLIGHT
BEGIN:STANDARD
TZOFFSETFROM:+0200
TZOFFSETTO:+0100
TZNAME:CET
DTSTART:20261025T010000
END:STANDARD
BEGIN:DAYLIGHT
TZOFFSETFROM:+0100
TZOFFSETTO:+0200
TZNAME:CEST
DTSTART:20270328T010000
END:DAYLIGHT
BEGIN:STANDARD
TZOFFSETFROM:+0200
TZOFFSETTO:+0100
TZNAME:CET
DTSTART:20271031T010000
END:STANDARD
END:VTIMEZONE
BEGIN:VEVENT
DTSTART;VALUE=DATE:20260213
DTEND;VALUE=DATE:20260216
DTSTAMP:20260419T162908
CREATED:20251006T083210Z
LAST-MODIFIED:20251006T083210Z
UID:6291-1770940800-1771199999@dev.svenskalivraddningssallskapet.se
SUMMARY:Utbildarutbildning helg 2
DESCRIPTION:En utbildning där vi utbildar vi nya utbildare som ska utbilda simlärare\, poollivräddare eller babysimsinstruktörer. \n\n\nUtbildningen är två helger 31 januari -1 februari samt 13-15 februari.
URL:http://dev.svenskalivraddningssallskapet.se/event/utbildarutbildning-helg-2-2/
ATTACH;FMTTYPE=image/png:http://dev.svenskalivraddningssallskapet.se/wp-content/uploads/2023/10/utbildare-babysim.png
END:VEVENT
BEGIN:VEVENT
DTSTART;VALUE=DATE:20260131
DTEND;VALUE=DATE:20260202
DTSTAMP:20260419T162908
CREATED:20251006T082932Z
LAST-MODIFIED:20251006T082932Z
UID:6289-1769817600-1769990399@dev.svenskalivraddningssallskapet.se
SUMMARY:Utbildning utbildare helg 1
DESCRIPTION:En utbildning där vi utbildar vi nya utbildare som ska utbilda simlärare\, poollivräddare eller babysimsinstruktörer. \n\n\nUtbildningen är två helger 31 januari -1 februari samt 13-15 februari.
URL:http://dev.svenskalivraddningssallskapet.se/event/utbildning-utbildare-helg-1/
ATTACH;FMTTYPE=image/png:http://dev.svenskalivraddningssallskapet.se/wp-content/uploads/2023/10/utbildare-babysim.png
END:VEVENT
BEGIN:VEVENT
DTSTART;VALUE=DATE:20251201
DTEND;VALUE=DATE:20251202
DTSTAMP:20260419T162908
CREATED:20241020T091506Z
LAST-MODIFIED:20241020T091642Z
UID:5024-1764547200-1764633599@dev.svenskalivraddningssallskapet.se
SUMMARY:Simborgarmärket 2026 släpps
DESCRIPTION:1 december varje år släpper vi färgen på simborgarmärket för kommande år.
URL:http://dev.svenskalivraddningssallskapet.se/event/simborgarmarket-2026-slapps/
ATTACH;FMTTYPE=image/jpeg:http://dev.svenskalivraddningssallskapet.se/wp-content/uploads/2023/10/sls000_simborgaraffisch_2023_1_-1.jpg
END:VEVENT
BEGIN:VEVENT
DTSTART;VALUE=DATE:20251018
DTEND;VALUE=DATE:20251020
DTSTAMP:20260419T162908
CREATED:20241020T084718Z
LAST-MODIFIED:20241020T084718Z
UID:5009-1760745600-1760918399@dev.svenskalivraddningssallskapet.se
SUMMARY:Höstmöte 2025
DESCRIPTION:
URL:http://dev.svenskalivraddningssallskapet.se/event/hostmote-2025/
ATTACH;FMTTYPE=image/png:http://dev.svenskalivraddningssallskapet.se/wp-content/uploads/2024/10/Hostmote.png
END:VEVENT
BEGIN:VEVENT
DTSTART;VALUE=DATE:20251016
DTEND;VALUE=DATE:20251017
DTSTAMP:20260419T162908
CREATED:20241020T085421Z
LAST-MODIFIED:20241020T085421Z
UID:5014-1760572800-1760659199@dev.svenskalivraddningssallskapet.se
SUMMARY:Alla kan rädda liv -dagen
DESCRIPTION:
URL:http://dev.svenskalivraddningssallskapet.se/event/alla-kan-radda-liv-dagen-2/
ATTACH;FMTTYPE=image/png:http://dev.svenskalivraddningssallskapet.se/wp-content/uploads/2023/10/restaer-a-heart-day.png
END:VEVENT
BEGIN:VEVENT
DTSTART;VALUE=DATE:20250906
DTEND;VALUE=DATE:20250908
DTSTAMP:20260419T162908
CREATED:20241020T085006Z
LAST-MODIFIED:20241020T085006Z
UID:5012-1757116800-1757289599@dev.svenskalivraddningssallskapet.se
SUMMARY:Rådsmöte
DESCRIPTION:
URL:http://dev.svenskalivraddningssallskapet.se/event/radsmote-2/
ATTACH;FMTTYPE=image/png:http://dev.svenskalivraddningssallskapet.se/wp-content/uploads/2024/10/Radsmote.png
END:VEVENT
BEGIN:VEVENT
DTSTART;VALUE=DATE:20250725
DTEND;VALUE=DATE:20250726
DTSTAMP:20260419T162908
CREATED:20231024T122742Z
LAST-MODIFIED:20231024T122742Z
UID:3420-1753401600-1753487999@dev.svenskalivraddningssallskapet.se
SUMMARY:World drowning prevention day
DESCRIPTION:Den 25 juli varje år går världens livräddningsorganisationer och WHO ihop för att tillsammans öka medvetenheten och för att förebygga drunkning.
URL:http://dev.svenskalivraddningssallskapet.se/event/world-drowning-prevention-day-3/
ATTACH;FMTTYPE=image/jpeg:http://dev.svenskalivraddningssallskapet.se/wp-content/uploads/2023/10/English-logo.jpg
END:VEVENT
BEGIN:VEVENT
DTSTART;VALUE=DATE:20250710
DTEND;VALUE=DATE:20250711
DTSTAMP:20260419T162908
CREATED:20231024T122342Z
LAST-MODIFIED:20241128T075048Z
UID:3417-1752105600-1752191999@dev.svenskalivraddningssallskapet.se
SUMMARY:Simborgarmärkets dag
DESCRIPTION:Den 10 juli varje år infaller simborgarmärkets dag! Under simborgarmärkets vecka uppmuntrar vi allmänheten\, barn som vuxna\, att ta Simborgarmärket. Simma 200 meter i öppet vatten för att testa sin simkunnighet.
URL:http://dev.svenskalivraddningssallskapet.se/event/simborgarmarkets-dag-3/
ATTACH;FMTTYPE=image/jpeg:http://dev.svenskalivraddningssallskapet.se/wp-content/uploads/2023/10/sls000_simborgaraffisch_2023_1_-1.jpg
END:VEVENT
BEGIN:VEVENT
DTSTART;VALUE=DATE:20250524
DTEND;VALUE=DATE:20250525
DTSTAMP:20260419T162908
CREATED:20241020T084523Z
LAST-MODIFIED:20241020T084523Z
UID:5006-1748044800-1748131199@dev.svenskalivraddningssallskapet.se
SUMMARY:Årsmöte 2025
DESCRIPTION:
URL:http://dev.svenskalivraddningssallskapet.se/event/arsmote-2025/
LOCATION:Härnösand
ATTACH;FMTTYPE=image/png:http://dev.svenskalivraddningssallskapet.se/wp-content/uploads/2024/10/Arsmote-2025.png
END:VEVENT
BEGIN:VEVENT
DTSTART;VALUE=DATE:20250521
DTEND;VALUE=DATE:20250522
DTSTAMP:20260419T162908
CREATED:20231221T074755Z
LAST-MODIFIED:20231221T074755Z
UID:3642-1747785600-1747871999@dev.svenskalivraddningssallskapet.se
SUMMARY:Internationella flytvästdagen "Wear it\, Sweden!" kampanjen starta
DESCRIPTION:”Wear It\, Sweden! – Den bästa flytvästen är den du har på dig”. \nKampanjen genomförs på initiativ av Svenska Livräddningssällskapet\, men budskapet bärs av en lång rad andra organisationer och myndigheter\, bland andra: \nSvenska Båtunionen\, Svenska Kryssarklubben\, Svenska Seglarförbundet\, Svenska Kanotförbundet\, Transportstyrelsen\, Försvarsmakten\, Polisen\, SMHI\, Kustbevakningen\, Sjöfartsverket\, Södra Älvsborgs Räddningstjänstförbund med flera \n 
URL:http://dev.svenskalivraddningssallskapet.se/event/internationella-flytvastdagen-wear-it-sweden-kampanjen-starta/
ATTACH;FMTTYPE=image/png:http://dev.svenskalivraddningssallskapet.se/wp-content/uploads/2023/12/Kalender-wear-it-16.9.png
END:VEVENT
BEGIN:VEVENT
DTSTART;VALUE=DATE:20250405
DTEND;VALUE=DATE:20250407
DTSTAMP:20260419T162908
CREATED:20241020T084259Z
LAST-MODIFIED:20241020T084259Z
UID:5000-1743811200-1743983999@dev.svenskalivraddningssallskapet.se
SUMMARY:Rådslag och styrelsemöte
DESCRIPTION:
URL:http://dev.svenskalivraddningssallskapet.se/event/radslag-och-styrelsemote/
ATTACH;FMTTYPE=image/png:http://dev.svenskalivraddningssallskapet.se/wp-content/uploads/2024/10/Radslag.png
END:VEVENT
BEGIN:VEVENT
DTSTART;VALUE=DATE:20241201
DTEND;VALUE=DATE:20241202
DTSTAMP:20260419T162908
CREATED:20231023T123125Z
LAST-MODIFIED:20231024T121341Z
UID:3408-1733011200-1733097599@dev.svenskalivraddningssallskapet.se
SUMMARY:Simborgarmärket för 2025 släpps
DESCRIPTION:1 december varje år släpper vi färgen på simborgarmärket för kommande år.
URL:http://dev.svenskalivraddningssallskapet.se/event/simborgarmarket-for-2025-slapps/
ATTACH;FMTTYPE=image/jpeg:http://dev.svenskalivraddningssallskapet.se/wp-content/uploads/2023/10/sls000_simborgaraffisch_2023_1_-1.jpg
END:VEVENT
BEGIN:VEVENT
DTSTART;VALUE=DATE:20241123
DTEND;VALUE=DATE:20241125
DTSTAMP:20260419T162908
CREATED:20231023T122922Z
LAST-MODIFIED:20231023T122922Z
UID:3406-1732320000-1732492799@dev.svenskalivraddningssallskapet.se
SUMMARY:Utbildarutbildning helg 2
DESCRIPTION:Under utbildarutbildningen utbildar vi nya utbildare som ska utbilda simlärare\, poollivräddare eller babysimsinstruktörer. \nUtbildningen är två helger 8-10 november samt 23-24 november.
URL:http://dev.svenskalivraddningssallskapet.se/event/utbildarutbildning-helg-2/
ATTACH;FMTTYPE=image/png:http://dev.svenskalivraddningssallskapet.se/wp-content/uploads/2023/10/utbildare-babysim.png
END:VEVENT
BEGIN:VEVENT
DTSTART;VALUE=DATE:20241108
DTEND;VALUE=DATE:20241111
DTSTAMP:20260419T162908
CREATED:20231023T122809Z
LAST-MODIFIED:20231023T122809Z
UID:3404-1731024000-1731283199@dev.svenskalivraddningssallskapet.se
SUMMARY:Utbildarutbildning helg 1
DESCRIPTION:Under utbildarutbildningen utbildar vi nya utbildare som ska utbilda simlärare\, poollivräddare eller babysimsinstruktörer. \nUtbildningen är två helger 8-10 november samt 23-24 november.
URL:http://dev.svenskalivraddningssallskapet.se/event/utbildarutbildning-helg-1/
ATTACH;FMTTYPE=image/png:http://dev.svenskalivraddningssallskapet.se/wp-content/uploads/2023/10/utbildare-babysim.png
END:VEVENT
BEGIN:VEVENT
DTSTART;VALUE=DATE:20241019
DTEND;VALUE=DATE:20241021
DTSTAMP:20260419T162908
CREATED:20231023T122237Z
LAST-MODIFIED:20240528T082135Z
UID:3401-1729296000-1729468799@dev.svenskalivraddningssallskapet.se
SUMMARY:Höstmöte 2024
DESCRIPTION:
URL:http://dev.svenskalivraddningssallskapet.se/event/hostmote-2024/
ATTACH;FMTTYPE=image/png:http://dev.svenskalivraddningssallskapet.se/wp-content/uploads/2023/10/hostmote-2024.png
END:VEVENT
BEGIN:VEVENT
DTSTART;VALUE=DATE:20241016
DTEND;VALUE=DATE:20241017
DTSTAMP:20260419T162908
CREATED:20231023T121744Z
LAST-MODIFIED:20231023T121744Z
UID:3398-1729036800-1729123199@dev.svenskalivraddningssallskapet.se
SUMMARY:Alla kan rädda liv-dagen
DESCRIPTION:
URL:http://dev.svenskalivraddningssallskapet.se/event/alla-kan-radda-liv-dagen/
ATTACH;FMTTYPE=image/png:http://dev.svenskalivraddningssallskapet.se/wp-content/uploads/2023/10/restaer-a-heart-day.png
END:VEVENT
BEGIN:VEVENT
DTSTART;VALUE=DATE:20241015
DTEND;VALUE=DATE:20241017
DTSTAMP:20260419T162908
CREATED:20231023T113338Z
LAST-MODIFIED:20240404T083602Z
UID:3379-1728950400-1729123199@dev.svenskalivraddningssallskapet.se
SUMMARY:Utbildarträff
DESCRIPTION:Uppdateringen för våra utbildare 15-16 oktober \nPlats: Halmstad \nKompetenser: Simlärar-\, babysim- och Poollivräddarutbildare \nUnder 2024 ska alla utbildare delta på ett av de tillfällen för re certifiering som erbjuds för att behålla sin utbildarcertifiering\, se tillfällena i inbjudan nedan. \nHar du utbildarkompetens inom ett av områdena; babysiminstruktörs-\, simlärar- eller poollivräddarutbildare ska du endast delta på en av dagarna under tillfället. \nHar du tvåkompetenser behöver du delta på två dagar. Väljer du då att delta under två olika tillfällen blir kostnaden dubbel. \nSista anmälningsdag 11 augusti för samtliga träffar. OBS\, begränsat antal platser per tillfälle\, först till kvarn gäller. \nKlicka här för att se hela inbjudan \nAnmäl dig här
URL:http://dev.svenskalivraddningssallskapet.se/event/utbildaruppdatering-4/
LOCATION:Halmstad arena\, Växjövägen 11\, Halmstad\, 302 44\, Sverige
ATTACH;FMTTYPE=image/png:http://dev.svenskalivraddningssallskapet.se/wp-content/uploads/2023/10/utbildare-pool.png
END:VEVENT
BEGIN:VEVENT
DTSTART;VALUE=DATE:20241001
DTEND;VALUE=DATE:20241003
DTSTAMP:20260419T162908
CREATED:20231023T121430Z
LAST-MODIFIED:20231023T121430Z
UID:3394-1727740800-1727913599@dev.svenskalivraddningssallskapet.se
SUMMARY:HLR kongress
DESCRIPTION:
URL:http://dev.svenskalivraddningssallskapet.se/event/hlr-kongress/
ATTACH;FMTTYPE=image/png:http://dev.svenskalivraddningssallskapet.se/wp-content/uploads/2023/10/hlr-radet.png
END:VEVENT
BEGIN:VEVENT
DTSTART;VALUE=DATE:20240917
DTEND;VALUE=DATE:20240919
DTSTAMP:20260419T162908
CREATED:20240404T082930Z
LAST-MODIFIED:20240404T083149Z
UID:3887-1726531200-1726703999@dev.svenskalivraddningssallskapet.se
SUMMARY:Utbildarträff
DESCRIPTION:Uppdateringen för våra utbildare 17 -18 september \nPlats: Skövde \nKompetenser: Simlärar- och Poollivräddarutbildare \nUnder 2024 ska alla utbildare delta på ett av de tillfällen för re certifiering som erbjuds för att behålla sin utbildarcertifiering\, se tillfällena i inbjudan nedan. \nHar du utbildarkompetens inom ett av områdena; babysiminstruktörs-\, simlärar- eller poollivräddarutbildare ska du endast delta på en av dagarna under tillfället. \nHar du tvåkompetenser behöver du delta på två dagar. Väljer du då att delta under två olika tillfällen blir kostnaden dubbel. \nSista anmälningsdag 11 augusti för samtliga träffar. OBS\, begränsat antal platser per tillfälle\, först till kvarn gäller. \nKlicka här för att se hela inbjudan \nAnmäl dig här
URL:http://dev.svenskalivraddningssallskapet.se/event/utbildartraff/
LOCATION:Arena Skövde\, Egnells väg 1\, Skövde
ATTACH;FMTTYPE=image/png:http://dev.svenskalivraddningssallskapet.se/wp-content/uploads/2024/04/utbildare-pool.png
END:VEVENT
BEGIN:VEVENT
DTSTART;VALUE=DATE:20240831
DTEND;VALUE=DATE:20240902
DTSTAMP:20260419T162908
CREATED:20231023T112936Z
LAST-MODIFIED:20240404T083714Z
UID:3375-1725062400-1725235199@dev.svenskalivraddningssallskapet.se
SUMMARY:Utbildarträff
DESCRIPTION:Uppdateringen för våra utbildare 31 augusti-1 september \nPlats: Gävle \nKompetenser: Simlärar-\, Babysiminstruktörs- och Poollivräddarutbildare \nUnder 2024 ska alla utbildare delta på ett av de tillfällen för re certifiering som erbjuds för att behålla sin utbildarcertifiering\, se tillfällena i inbjudan nedan. \nHar du utbildarkompetens inom ett av områdena; babysiminstruktörs-\, simlärar- eller poollivräddarutbildare ska du endast delta på en av dagarna under tillfället. \nHar du tvåkompetenser behöver du delta på två dagar. Väljer du då att delta under två olika tillfällen blir kostnaden dubbel. \nSista anmälningsdag 11 augusti för samtliga träffar. OBS\, begränsat antal platser per tillfälle\, först till kvarn gäller. \nKlicka här för att se hela inbjudan \nAnmäl dig här
URL:http://dev.svenskalivraddningssallskapet.se/event/utbildaruppdatering-2/
LOCATION:Gävle
ATTACH;FMTTYPE=image/png:http://dev.svenskalivraddningssallskapet.se/wp-content/uploads/2023/10/utbildare-pool.png
END:VEVENT
BEGIN:VEVENT
DTSTART;VALUE=DATE:20240824
DTEND;VALUE=DATE:20240826
DTSTAMP:20260419T162908
CREATED:20231023T120224Z
LAST-MODIFIED:20231023T120224Z
UID:3392-1724457600-1724630399@dev.svenskalivraddningssallskapet.se
SUMMARY:Rådsmöte
DESCRIPTION:
URL:http://dev.svenskalivraddningssallskapet.se/event/radsmote/
END:VEVENT
BEGIN:VEVENT
DTSTART;VALUE=DATE:20240823
DTEND;VALUE=DATE:20240905
DTSTAMP:20260419T162908
CREATED:20231206T095555Z
LAST-MODIFIED:20231206T095658Z
UID:3587-1724371200-1725494399@dev.svenskalivraddningssallskapet.se
SUMMARY:Världsmästerskapen i Australien
DESCRIPTION:Vårt senior landslag deltar på världsmästerskapen 2024 i Australien. Följ deras resa på instagram @swedenlifesaving
URL:http://dev.svenskalivraddningssallskapet.se/event/varldsmasterskapen-i-australien/
LOCATION:Gold Coast\, Australien\, Queensland\, Australien
ATTACH;FMTTYPE=image/jpeg:http://dev.svenskalivraddningssallskapet.se/wp-content/uploads/2023/12/Sport_hav_foto_Sophia-Arslan.jpg
END:VEVENT
BEGIN:VEVENT
DTSTART;VALUE=DATE:20240810
DTEND;VALUE=DATE:20240811
DTSTAMP:20260419T162908
CREATED:20231206T094754Z
LAST-MODIFIED:20231206T100152Z
UID:3584-1723248000-1723334399@dev.svenskalivraddningssallskapet.se
SUMMARY:Niklas Bengtsson Memorial
DESCRIPTION:Följ tävlingarna på instagram @swedenlifesaving
URL:http://dev.svenskalivraddningssallskapet.se/event/niklas-bengtsson-memorial/
LOCATION:Tylösand
ATTACH;FMTTYPE=image/jpeg:http://dev.svenskalivraddningssallskapet.se/wp-content/uploads/2023/12/tavling-scaled.jpeg
END:VEVENT
BEGIN:VEVENT
DTSTART;VALUE=DATE:20240725
DTEND;VALUE=DATE:20240726
DTSTAMP:20260419T162908
CREATED:20231023T114501Z
LAST-MODIFIED:20231024T122610Z
UID:3382-1721865600-1721951999@dev.svenskalivraddningssallskapet.se
SUMMARY:World drowning prevention day
DESCRIPTION:Den 25 juli varje år går världens livräddningsorganisationer och WHO ihop för att tillsammans öka medvetenheten och för att förebygga drunkning.
URL:http://dev.svenskalivraddningssallskapet.se/event/world-drowning-prevention-day-2/
ATTACH;FMTTYPE=image/jpeg:http://dev.svenskalivraddningssallskapet.se/wp-content/uploads/2023/10/English-logo.jpg
END:VEVENT
BEGIN:VEVENT
DTSTART;VALUE=DATE:20240714
DTEND;VALUE=DATE:20240722
DTSTAMP:20260419T162908
CREATED:20231206T094357Z
LAST-MODIFIED:20231206T100006Z
UID:3580-1720915200-1721606399@dev.svenskalivraddningssallskapet.se
SUMMARY:Utvecklingsläger Surf Lifesaving
DESCRIPTION:Anmälan sker till forbundskapten@sls.a.se \nFölj tävlingarna på instagram @swedenlifesaving
URL:http://dev.svenskalivraddningssallskapet.se/event/utvecklingslager-surf-lifesaving/
LOCATION:Tofta\, Gotland\, Gotlands tofta
ATTACH;FMTTYPE=image/png:http://dev.svenskalivraddningssallskapet.se/wp-content/uploads/2023/12/gotland.png
END:VEVENT
BEGIN:VEVENT
DTSTART;VALUE=DATE:20240710
DTEND;VALUE=DATE:20240711
DTSTAMP:20260419T162908
CREATED:20231023T115011Z
LAST-MODIFIED:20241128T075156Z
UID:3385-1720569600-1720655999@dev.svenskalivraddningssallskapet.se
SUMMARY:Simborgarmärkets dag
DESCRIPTION:Den 10 juli varje år infaller simborgarmärkets dag! Under simborgarmärkets vecka uppmuntrar vi allmänheten\, barn som vuxna\, att ta Simborgarmärket. Simma 200 meter i öppet vatten för att testa sin simkunnighet.
URL:http://dev.svenskalivraddningssallskapet.se/event/simborgarmarkets-dag-2/
ATTACH;FMTTYPE=image/jpeg:http://dev.svenskalivraddningssallskapet.se/wp-content/uploads/2023/10/c533627f-3fcc-44cd-8623-cfecac0d8f17.jpg
END:VEVENT
BEGIN:VEVENT
DTSTART;TZID=Europe/Stockholm:20240525T080000
DTEND;TZID=Europe/Stockholm:20240525T170000
DTSTAMP:20260419T162908
CREATED:20231023T115750Z
LAST-MODIFIED:20240220T120720Z
UID:3388-1716624000-1716656400@dev.svenskalivraddningssallskapet.se
SUMMARY:Årsmöte
DESCRIPTION:Datum: 25 maj \nPlats: Tylösand \nSvenska Livräddningssällskapets riksorganisation kallar härmed till årsmöte lördagen den 25 maj 2024. Värd för mötet är Regionförbund Halland i samverkan med lokalföreningarna Livräddarna Tylösand och Livräddarna Varberg samt biträds av personal från rikskansli. Varmt välkomna! \nEventuella motioner ska skickas till styrelsen senast den 1 april\, info@sls.a.se \nProgram (Lördag den 25 maj) \n09:00 Anmälan och registrering med kaffe och smörgås Hotell Tylösand \n10:00 Föredrag SISU Halland \n10:00 SM Hav pågår hela dagen. Information om tävlingarna skickas separat. \n11:00 Årsmötet öppnas av ordförande Anders Jacobsson \n13:00 Lunch årsmötesdelegater\, Hotell Tylösand \n13:30 Öppet-hus Livräddarskolan \n19:00 Bankett Leif´s lounge\, klädsel: kavaj \n  \nMer information skickas inom kort till: \n\nOrdförande och sekreterare i regionförbund\nLedamot i riksstyrelsen\nRådsordförande\nHedersledamöter\nMedaljnämnd\nRevisorer\nValberedning\nRikskansli
URL:http://dev.svenskalivraddningssallskapet.se/event/svenska-livraddningssallskapets-arsmote-2023/
LOCATION:Tylösand
ATTACH;FMTTYPE=image/png:http://dev.svenskalivraddningssallskapet.se/wp-content/uploads/2023/10/Arsmote-2024-kalendern.png
END:VEVENT
BEGIN:VEVENT
DTSTART;VALUE=DATE:20240525
DTEND;VALUE=DATE:20240526
DTSTAMP:20260419T162908
CREATED:20231206T093310Z
LAST-MODIFIED:20231206T100039Z
UID:3577-1716595200-1716681599@dev.svenskalivraddningssallskapet.se
SUMMARY:Svenska mästerskapen Surf Lifesaving
DESCRIPTION:Följ tävlingarna på instagram @swedenlifesaving
URL:http://dev.svenskalivraddningssallskapet.se/event/svenska-masterskapen-surf-lifesaving/
LOCATION:Tylösand
ATTACH;FMTTYPE=image/jpeg:http://dev.svenskalivraddningssallskapet.se/wp-content/uploads/2023/12/19023712_10154617343551680_2207760871015805938_o.jpg
END:VEVENT
BEGIN:VEVENT
DTSTART;VALUE=DATE:20240521
DTEND;VALUE=DATE:20240522
DTSTAMP:20260419T162908
CREATED:20231221T074554Z
LAST-MODIFIED:20231221T074630Z
UID:3637-1716249600-1716335999@dev.svenskalivraddningssallskapet.se
SUMMARY:Internationella flytvästdagen "Wear it\, Sweden!" kampanjen startar
DESCRIPTION:”Wear It\, Sweden! – Den bästa flytvästen är den du har på dig”. \nKampanjen genomförs på initiativ av Svenska Livräddningssällskapet\, men budskapet bärs av en lång rad andra organisationer och myndigheter\, bland andra: \nSvenska Båtunionen\, Svenska Kryssarklubben\, Svenska Seglarförbundet\, Svenska Kanotförbundet\, Transportstyrelsen\, Försvarsmakten\, Polisen\, SMHI\, Kustbevakningen\, Sjöfartsverket\, Södra Älvsborgs Räddningstjänstförbund med flera \n 
URL:http://dev.svenskalivraddningssallskapet.se/event/internationella-flytvastdagen-wear-it-sweden-kampanjen-startar/
ATTACH;FMTTYPE=image/png:http://dev.svenskalivraddningssallskapet.se/wp-content/uploads/2023/12/Kalender-wear-it-16.9.png
END:VEVENT
BEGIN:VEVENT
DTSTART;VALUE=DATE:20240406
DTEND;VALUE=DATE:20240408
DTSTAMP:20260419T162908
CREATED:20231206T091809Z
LAST-MODIFIED:20231206T101332Z
UID:3569-1712361600-1712534399@dev.svenskalivraddningssallskapet.se
SUMMARY:Svenska Mästerskapen Pool / Brita memorial
DESCRIPTION:Följ tävlingarna på instagram @swedenlifesaving \n  \nAnmälan sker till stefan.nyander@jonkopingss.se
URL:http://dev.svenskalivraddningssallskapet.se/event/svenska-masterskapen-pool-brita-memorial/
LOCATION:Rosenlundsbadet\, Jönköping\, Elmiavägen 4\, Jönköping\, 554 54\, Sverige
ATTACH;FMTTYPE=image/jpeg:http://dev.svenskalivraddningssallskapet.se/wp-content/uploads/2023/12/bild-5-scaled.jpg
END:VEVENT
END:VCALENDAR