BEGIN:VCALENDAR
VERSION:2.0
PRODID:-//Svenska Livräddningssällskapet - ECPv6.15.11//NONSGML v1.0//EN
CALSCALE:GREGORIAN
METHOD:PUBLISH
X-ORIGINAL-URL:http://dev.svenskalivraddningssallskapet.se
X-WR-CALDESC:Händelser för Svenska Livräddningssällskapet
REFRESH-INTERVAL;VALUE=DURATION:PT1H
X-Robots-Tag:noindex
X-PUBLISHED-TTL:PT1H
BEGIN:VTIMEZONE
TZID:Europe/Stockholm
BEGIN:DAYLIGHT
TZOFFSETFROM:+0100
TZOFFSETTO:+0200
TZNAME:CEST
DTSTART:20220327T010000
END:DAYLIGHT
BEGIN:STANDARD
TZOFFSETFROM:+0200
TZOFFSETTO:+0100
TZNAME:CET
DTSTART:20221030T010000
END:STANDARD
BEGIN:DAYLIGHT
TZOFFSETFROM:+0100
TZOFFSETTO:+0200
TZNAME:CEST
DTSTART:20230326T010000
END:DAYLIGHT
BEGIN:STANDARD
TZOFFSETFROM:+0200
TZOFFSETTO:+0100
TZNAME:CET
DTSTART:20231029T010000
END:STANDARD
BEGIN:DAYLIGHT
TZOFFSETFROM:+0100
TZOFFSETTO:+0200
TZNAME:CEST
DTSTART:20240331T010000
END:DAYLIGHT
BEGIN:STANDARD
TZOFFSETFROM:+0200
TZOFFSETTO:+0100
TZNAME:CET
DTSTART:20241027T010000
END:STANDARD
BEGIN:DAYLIGHT
TZOFFSETFROM:+0100
TZOFFSETTO:+0200
TZNAME:CEST
DTSTART:20250330T010000
END:DAYLIGHT
BEGIN:STANDARD
TZOFFSETFROM:+0200
TZOFFSETTO:+0100
TZNAME:CET
DTSTART:20251026T010000
END:STANDARD
END:VTIMEZONE
BEGIN:VEVENT
DTSTART;VALUE=DATE:20240714
DTEND;VALUE=DATE:20240722
DTSTAMP:20260419T193254
CREATED:20231206T094357Z
LAST-MODIFIED:20231206T100006Z
UID:3580-1720915200-1721606399@dev.svenskalivraddningssallskapet.se
SUMMARY:Utvecklingsläger Surf Lifesaving
DESCRIPTION:Anmälan sker till forbundskapten@sls.a.se \nFölj tävlingarna på instagram @swedenlifesaving
URL:http://dev.svenskalivraddningssallskapet.se/event/utvecklingslager-surf-lifesaving/
LOCATION:Tofta\, Gotland\, Gotlands tofta
ATTACH;FMTTYPE=image/png:http://dev.svenskalivraddningssallskapet.se/wp-content/uploads/2023/12/gotland.png
END:VEVENT
BEGIN:VEVENT
DTSTART;VALUE=DATE:20240710
DTEND;VALUE=DATE:20240711
DTSTAMP:20260419T193254
CREATED:20231023T115011Z
LAST-MODIFIED:20241128T075156Z
UID:3385-1720569600-1720655999@dev.svenskalivraddningssallskapet.se
SUMMARY:Simborgarmärkets dag
DESCRIPTION:Den 10 juli varje år infaller simborgarmärkets dag! Under simborgarmärkets vecka uppmuntrar vi allmänheten\, barn som vuxna\, att ta Simborgarmärket. Simma 200 meter i öppet vatten för att testa sin simkunnighet.
URL:http://dev.svenskalivraddningssallskapet.se/event/simborgarmarkets-dag-2/
ATTACH;FMTTYPE=image/jpeg:http://dev.svenskalivraddningssallskapet.se/wp-content/uploads/2023/10/c533627f-3fcc-44cd-8623-cfecac0d8f17.jpg
END:VEVENT
BEGIN:VEVENT
DTSTART;TZID=Europe/Stockholm:20240525T080000
DTEND;TZID=Europe/Stockholm:20240525T170000
DTSTAMP:20260419T193254
CREATED:20231023T115750Z
LAST-MODIFIED:20240220T120720Z
UID:3388-1716624000-1716656400@dev.svenskalivraddningssallskapet.se
SUMMARY:Årsmöte
DESCRIPTION:Datum: 25 maj \nPlats: Tylösand \nSvenska Livräddningssällskapets riksorganisation kallar härmed till årsmöte lördagen den 25 maj 2024. Värd för mötet är Regionförbund Halland i samverkan med lokalföreningarna Livräddarna Tylösand och Livräddarna Varberg samt biträds av personal från rikskansli. Varmt välkomna! \nEventuella motioner ska skickas till styrelsen senast den 1 april\, info@sls.a.se \nProgram (Lördag den 25 maj) \n09:00 Anmälan och registrering med kaffe och smörgås Hotell Tylösand \n10:00 Föredrag SISU Halland \n10:00 SM Hav pågår hela dagen. Information om tävlingarna skickas separat. \n11:00 Årsmötet öppnas av ordförande Anders Jacobsson \n13:00 Lunch årsmötesdelegater\, Hotell Tylösand \n13:30 Öppet-hus Livräddarskolan \n19:00 Bankett Leif´s lounge\, klädsel: kavaj \n  \nMer information skickas inom kort till: \n\nOrdförande och sekreterare i regionförbund\nLedamot i riksstyrelsen\nRådsordförande\nHedersledamöter\nMedaljnämnd\nRevisorer\nValberedning\nRikskansli
URL:http://dev.svenskalivraddningssallskapet.se/event/svenska-livraddningssallskapets-arsmote-2023/
LOCATION:Tylösand
ATTACH;FMTTYPE=image/png:http://dev.svenskalivraddningssallskapet.se/wp-content/uploads/2023/10/Arsmote-2024-kalendern.png
END:VEVENT
BEGIN:VEVENT
DTSTART;VALUE=DATE:20240525
DTEND;VALUE=DATE:20240526
DTSTAMP:20260419T193254
CREATED:20231206T093310Z
LAST-MODIFIED:20231206T100039Z
UID:3577-1716595200-1716681599@dev.svenskalivraddningssallskapet.se
SUMMARY:Svenska mästerskapen Surf Lifesaving
DESCRIPTION:Följ tävlingarna på instagram @swedenlifesaving
URL:http://dev.svenskalivraddningssallskapet.se/event/svenska-masterskapen-surf-lifesaving/
LOCATION:Tylösand
ATTACH;FMTTYPE=image/jpeg:http://dev.svenskalivraddningssallskapet.se/wp-content/uploads/2023/12/19023712_10154617343551680_2207760871015805938_o.jpg
END:VEVENT
BEGIN:VEVENT
DTSTART;VALUE=DATE:20240521
DTEND;VALUE=DATE:20240522
DTSTAMP:20260419T193254
CREATED:20231221T074554Z
LAST-MODIFIED:20231221T074630Z
UID:3637-1716249600-1716335999@dev.svenskalivraddningssallskapet.se
SUMMARY:Internationella flytvästdagen "Wear it\, Sweden!" kampanjen startar
DESCRIPTION:”Wear It\, Sweden! – Den bästa flytvästen är den du har på dig”. \nKampanjen genomförs på initiativ av Svenska Livräddningssällskapet\, men budskapet bärs av en lång rad andra organisationer och myndigheter\, bland andra: \nSvenska Båtunionen\, Svenska Kryssarklubben\, Svenska Seglarförbundet\, Svenska Kanotförbundet\, Transportstyrelsen\, Försvarsmakten\, Polisen\, SMHI\, Kustbevakningen\, Sjöfartsverket\, Södra Älvsborgs Räddningstjänstförbund med flera \n 
URL:http://dev.svenskalivraddningssallskapet.se/event/internationella-flytvastdagen-wear-it-sweden-kampanjen-startar/
ATTACH;FMTTYPE=image/png:http://dev.svenskalivraddningssallskapet.se/wp-content/uploads/2023/12/Kalender-wear-it-16.9.png
END:VEVENT
BEGIN:VEVENT
DTSTART;VALUE=DATE:20240406
DTEND;VALUE=DATE:20240408
DTSTAMP:20260419T193254
CREATED:20231206T091809Z
LAST-MODIFIED:20231206T101332Z
UID:3569-1712361600-1712534399@dev.svenskalivraddningssallskapet.se
SUMMARY:Svenska Mästerskapen Pool / Brita memorial
DESCRIPTION:Följ tävlingarna på instagram @swedenlifesaving \n  \nAnmälan sker till stefan.nyander@jonkopingss.se
URL:http://dev.svenskalivraddningssallskapet.se/event/svenska-masterskapen-pool-brita-memorial/
LOCATION:Rosenlundsbadet\, Jönköping\, Elmiavägen 4\, Jönköping\, 554 54\, Sverige
ATTACH;FMTTYPE=image/jpeg:http://dev.svenskalivraddningssallskapet.se/wp-content/uploads/2023/12/bild-5-scaled.jpg
END:VEVENT
BEGIN:VEVENT
DTSTART;VALUE=DATE:20240309
DTEND;VALUE=DATE:20240310
DTSTAMP:20260419T193254
CREATED:20231206T091119Z
LAST-MODIFIED:20231206T100351Z
UID:3566-1709942400-1710028799@dev.svenskalivraddningssallskapet.se
SUMMARY:Svenska Mästerskapen Speed lifesaving
DESCRIPTION:Följ tävlingarna på instagram @swedenlifesaving \nTävlingsprogram \nInsim kl. 12\,10-12\,55\, tävlingsstart kl. 13. Samtliga grenar går i direktfinal.  \n  \nGrenar \n\n50/100 m hinder Junior/senior – Herr/dam\n25/50 m bogsering av docka Junior/senior – Herr/dam\n50 m bogsering av docka med fenor Junior/senior – Herr/dam\nLine throw Junior/senior – Herr/dam\n\nPaus \n\n50 m bogsering med fenor & torped Junior/senior – Herr/dam\n4*25 m medley Junior/senior – Herr/dam\n\n  \nI lagkapper tävlar mixlag i herrklassen. Olika åldrar i laget är tillåtet. Åldersklassen ”bestäms” av äldsta deltagaren. \n  \nÅldersgrupper \nSenior: Född 2005 oä \nJunior: Född 2006-2009 \n  \nStartavgift  \nIndividuell start: 50:-/start \nLagkapps start: 150:-/start \n  \nStartavgifter faktureras av Svenska Livräddningssällskapet i efterhand till respektive klubb. Uppge mailadress dit faktura ska skickas. \nAnmälan        \nAnmälan sker genom att fylla i anmälningsblanketten\, ett dokument/förening\, och skickas till forbundskapten@sls.a.se. Sista anmälningsdag är den 22/2. Anmälan är bindande\, vid bortfall sker ingen återbetalning. \n  \nPlats \nHalmstad arena \n  \nFunktionärer \nLivräddarna Tylösand tar tacksamt emot funktionärshjälp under tävlingen. Vänligen meddela peter.karlborg@telia.com om du/ni kan hjälpa till. Funktionärssamling i simhallen kl. 12. \n  \nPriser \nIndividuella medaljer delas ut till de tre främsta i varje åldersklass. \n  \nVälkomna! \nJonas Hagberg\, Förbundskapten Svenska Livräddningssällskapet \nPeter Karlborg\, Ordförande Livräddarna Tylösand
URL:http://dev.svenskalivraddningssallskapet.se/event/sm-speed-lifesaving/
LOCATION:Halmstad arena\, Växjövägen 11\, Halmstad\, 302 44\, Sverige
ATTACH;FMTTYPE=image/png:http://dev.svenskalivraddningssallskapet.se/wp-content/uploads/2023/12/speed-lifesaving.png
END:VEVENT
BEGIN:VEVENT
DTSTART;VALUE=DATE:20240124
DTEND;VALUE=DATE:20240126
DTSTAMP:20260419T193254
CREATED:20231221T075712Z
LAST-MODIFIED:20231221T081819Z
UID:3644-1706054400-1706227199@dev.svenskalivraddningssallskapet.se
SUMMARY:Flytekonferensen
DESCRIPTION:Norges Livredningselskap anordnar en konferens om drunkningsprevention. \nFlytekonferansen er relevant for alle som interesserer seg for- eller jobber med drukningsforebygging. Her møtes representanter fra kommuner\, frivillighet\, akademia\, lokalpolitikere og næringsliv for å sparre og lære mer om drukningsforebygging.
URL:http://dev.svenskalivraddningssallskapet.se/event/norges-livredningsselskap-konferens/
ATTACH;FMTTYPE=image/png:http://dev.svenskalivraddningssallskapet.se/wp-content/uploads/2023/12/Kalender-flytekonferensen-16.9.png
END:VEVENT
BEGIN:VEVENT
DTSTART;VALUE=DATE:20231201
DTEND;VALUE=DATE:20231202
DTSTAMP:20260419T193254
CREATED:20231023T094730Z
LAST-MODIFIED:20231024T121423Z
UID:3363-1701388800-1701475199@dev.svenskalivraddningssallskapet.se
SUMMARY:Simborgarmärket för 2024 släpps
DESCRIPTION:1 december varje år släpper vi färgen på simborgarmärket för kommande år.
URL:http://dev.svenskalivraddningssallskapet.se/event/simborgarmarket-for-2024-slapps/
ATTACH;FMTTYPE=image/jpeg:http://dev.svenskalivraddningssallskapet.se/wp-content/uploads/2023/10/sls000_simborgaraffisch_2023_1_-1.jpg
END:VEVENT
BEGIN:VEVENT
DTSTART;VALUE=DATE:20231021
DTEND;VALUE=DATE:20231023
DTSTAMP:20260419T193254
CREATED:20230905T142104Z
LAST-MODIFIED:20230905T142104Z
UID:3271-1697846400-1698019199@dev.svenskalivraddningssallskapet.se
SUMMARY:Höstmöte
DESCRIPTION:Om eventet: Ordförande i regionförbunden bjuds in till höstmöte i Stockholm. Hålltider och exakt plats kommer närmare.
URL:http://dev.svenskalivraddningssallskapet.se/event/hostmote-2/
ATTACH;FMTTYPE=image/png:http://dev.svenskalivraddningssallskapet.se/wp-content/uploads/2023/09/Hostmote-2023-1-e1693922920452.png
END:VEVENT
BEGIN:VEVENT
DTSTART;VALUE=DATE:20230826
DTEND;VALUE=DATE:20230828
DTSTAMP:20260419T193254
CREATED:20230601T094337Z
LAST-MODIFIED:20230601T094337Z
UID:2985-1693008000-1693180799@dev.svenskalivraddningssallskapet.se
SUMMARY:Rådsträff och Riksstyrelsemöte
DESCRIPTION:
URL:http://dev.svenskalivraddningssallskapet.se/event/radstraff-och-riksstyrelsemote/
LOCATION:Tylösand
END:VEVENT
BEGIN:VEVENT
DTSTART;VALUE=DATE:20230725
DTEND;VALUE=DATE:20230726
DTSTAMP:20260419T193254
CREATED:20230601T094241Z
LAST-MODIFIED:20230601T094241Z
UID:2983-1690243200-1690329599@dev.svenskalivraddningssallskapet.se
SUMMARY:World drowning prevention day
DESCRIPTION:
URL:http://dev.svenskalivraddningssallskapet.se/event/world-drowning-prevention-day/
END:VEVENT
BEGIN:VEVENT
DTSTART;VALUE=DATE:20230712
DTEND;VALUE=DATE:20230713
DTSTAMP:20260419T193254
CREATED:20230601T094159Z
LAST-MODIFIED:20241128T075345Z
UID:2981-1689120000-1689206399@dev.svenskalivraddningssallskapet.se
SUMMARY:Simborgarmärkets dag
DESCRIPTION:Den 10 juli varje år infaller simborgarmärkets dag! Under simborgarmärkets vecka uppmuntrar vi allmänheten\, barn som vuxna\, att ta Simborgarmärket. Simma 200 meter i öppet vatten för att testa sin simkunnighet.
URL:http://dev.svenskalivraddningssallskapet.se/event/simborgarmarkets-dag/
END:VEVENT
BEGIN:VEVENT
DTSTART;VALUE=DATE:20230617
DTEND;VALUE=DATE:20230618
DTSTAMP:20260419T193254
CREATED:20230602T083211Z
LAST-MODIFIED:20230602T083211Z
UID:3029-1686960000-1687046399@dev.svenskalivraddningssallskapet.se
SUMMARY:Uttagstävling till landslaget i Havsgrenar
DESCRIPTION:
URL:http://dev.svenskalivraddningssallskapet.se/event/uttagstavling-till-landslaget-i-havsgrenar/
LOCATION:Tylösand
ATTACH;FMTTYPE=image/jpeg:http://dev.svenskalivraddningssallskapet.se/wp-content/uploads/2023/06/242744964_10158694641331680_6604288971164084308_n.jpg
END:VEVENT
BEGIN:VEVENT
DTSTART;VALUE=DATE:20230613
DTEND;VALUE=DATE:20230615
DTSTAMP:20260419T193254
CREATED:20230601T093902Z
LAST-MODIFIED:20230601T093902Z
UID:2978-1686614400-1686787199@dev.svenskalivraddningssallskapet.se
SUMMARY:HLR Kongress\, drunkning och hypotermi
DESCRIPTION:Ett samarbete mellan Svenska HLR rådet och Svenska Livräddningssällskapet
URL:http://dev.svenskalivraddningssallskapet.se/event/hlr-kongress-drunkning-och-hypotermi/
LOCATION:Tylösand
END:VEVENT
END:VCALENDAR